BEGIN:VCALENDAR
VERSION:2.0
METHOD:PUBLISH
X-WR-CALNAME:VFEK |  április 07 2008- április 07 2008
PRODID:-//strange bird labs//Drupal iCal API//EN
BEGIN:VEVENT
DTSTAMP;VALUE=DATE-TIME:20260421T015436Z
DTSTART;VALUE=DATE-TIME:20080326T150000Z
DTEND;VALUE=DATE-TIME:20080426T170000Z
UID:http://portal.vfmk.hu/node/162
URL;VALUE=URI:http://portal.vfmk.hu/node/162
SUMMARY:Abonyi Magyar Imre kiállítása
DESCRIPTION:<p class=\\"rtecenter\\">A J&aacute\;sz-Nagykun-Szolnok Megyei<br />
 Verseghy Ferenc K&ouml\;nyvt&aacute\;r &eacute\;s<br />
 Művelőd&eacute\;si Int&eacute\;zet</p>
 <p class=\\"rtecenter\\">&eacute\;s a</p>
 <p class=\\"rtecenter\\">Damjanich M&uacute\;zeum Bar&aacute\;ti K&ouml\;re eln&ouml\;ks&eacute\;ge</p>
 <p class=\\"rtecenter\\">szeretettel megh&iacute\;vja &Ouml\;nt &eacute\;s Bar&aacute\;tait</p>
 <p class=\\"rtecenter\\"><b>Abonyi Magyar Imre<i><br />
 </i></b><i><b>Aba-Nov&aacute\;k D&iacute\;jas<br />
 festőműv&eacute\;sz</b></i></p>
 <p class=\\"rtecenter\\">ki&aacute\;ll&iacute\;t&aacute\;s&aacute\;nak megnyit&oacute\;j&aacute\;ra<br />
 2008. m&aacute\;rcius 26-&aacute\;n (szerd&aacute\;n) 16.00 &oacute\;r&aacute\;ra<br />
 a k&ouml\;nyvt&aacute\;r első emeleti Műv&eacute\;szeti Szalonj&aacute\;ba<br />
 Szolnok\, Kossuth t&eacute\;r 2.</p>
 <p class=\\"rteleft\\">Megnyit&oacute\; besz&eacute\;det mond &eacute\;s a ki&aacute\;ll&iacute\;t&aacute\;st m&eacute\;ltatja</p>
 <p class=\\"rtecenter\\"><b>Dr. Ir&aacute\;s M&aacute\;ty&aacute\;s<br />
 <i>a Bar&aacute\;ti K&ouml\;r eln&ouml\;ke</i></b></p>
 <p class=\\"rtecenter\\">A festőműv&eacute\;sz k&eacute\;peit elrendezte</p>
 <p class=\\"rtecenter\\"><b>Hunya Zolt&aacute\;n</b></p>
 <p class=\\"rteleft\\">A ki&aacute\;ll&iacute\;tott művekből n&eacute\;h&aacute\;ny darab megv&aacute\;s&aacute\;rolhat&oacute\; a helysz&iacute\;nen.</p>
 <p class=\\"rtecenter\\">A ki&aacute\;ll&iacute\;t&aacute\;s 2008. &aacute\;prilis 26-ig tekinthető meg.</p>
 <p class=\\"rteright\\"><span style=\\"font-size\: x-small\;\\"><span><i><a href=\\"http\://www.vfmk.hu/01102008032702\\" target=\\"_blank\\"><span style=\\"font-size\: small\;\\">K&eacute\;pek a megnyit&oacute\;r&oacute\;l</span></a></i></span></span></p>
END:VEVENT
END:VCALENDAR
